BEGIN:VCALENDAR
VERSION:2.0
PRODID:icalendar-ruby
CALSCALE:GREGORIAN
METHOD:PUBLISH
BEGIN:VEVENT
DTSTAMP:20260420T040859Z
UID:7-695317@connectionpc.org
DTSTART:20261101T160000Z
DTEND:20261101T173000Z
CLASS:PUBLIC
CREATED:20260419T220723
DESCRIPTION:
LAST-MODIFIED:20260419T220723
LOCATION:
SUMMARY:Sunday Gathering
URL;VALUE=URI:https://www.connectionpc.org/events/sunday-gathering/2026-11-
 01
ATTACH;FILENAME=WHITE RAISED.png;FMTTYPE=image/png:https://dq5pwpg1q8ru0.cl
 oudfront.net/2026/03/04/17/03/21/e29a8e68-3b63-4e75-9daf-dfa536fb15c7/WHIT
 E%20RAISED.png
END:VEVENT
END:VCALENDAR
